BEGIN:VCALENDAR
VERSION:2.0
PRODID:-//Library Market//iCal Export//EN
BEGIN:VEVENT
SUMMARY:Yarns N&#039;at
UID:13395
DTSTAMP:20260420T002700Z
DTSTART:20260502T140000Z
DTEND:20260502T160000Z
LOCATION:Northern Tier Regional Library, 4015 Dickey Road, Gibsonia, PA 15
 044, United States
ROOM: Kemerer Reading Room - Lower Level
DESCRIPTION:Our fiber arts group, Yarns N&#039;at, will meet to hang out a
 nd practice their preferred style of fiber art. Whether you knit, sew, emb
 roider, crochet, weave, or are into any type of hook and needle art, bring
  it on in and sit alongside others as they work on their projects.Note: Th
 is club has no designated teacher, but you might find help from your fello
 w yarn enthusiasts.Registration is requested for new attendees.
URL:https://northerntier.librarycalendar.com/event/yarns-nat-13395
END:VEVENT
END:VCALENDAR
