BEGIN:VCALENDAR
VERSION:2.0
PRODID:-//Library Market//iCal Export//EN
BEGIN:VEVENT
SUMMARY:Friends of the Library
UID:13399
DTSTAMP:20260420T002700Z
DTSTART:20260505T140000Z
DTEND:20260505T160000Z
LOCATION:Northern Tier Regional Library, 4015 Dickey Road, Gibsonia, PA 15
 044, United States
ROOM: Kemerer Reading Room - Lower Level
DESCRIPTION:The Friends sponsor our annual Used Book Sale and many other p
 rograms in support of the library. Current and new members are welcome to 
 join us!
URL:https://northerntier.librarycalendar.com/event/friends-library-13399
END:VEVENT
END:VCALENDAR
