BEGIN:VCALENDAR
VERSION:2.0
PRODID:-//Library Market//iCal Export//EN
BEGIN:VEVENT
SUMMARY:Knit Lit
UID:13438
DTSTAMP:20260420T002700Z
DTSTART:20260519T223000Z
DTEND:20260520T003000Z
LOCATION:Northern Tier Regional Library, 4015 Dickey Road, Gibsonia, PA 15
 044, United States
ROOM: Kemerer Reading Room - Lower Level
DESCRIPTION:Knitters, crocheters, and yarn art enthusiasts are welcome to 
 join us on the lower level of the library once a month. If you&#039;re wor
 king on a project, bring it along with you!We&#039;ll talk about life, boo
 ks we&#039;ve read, and those craft projects you&#039;re always working on
 , but might never finish. Hope to see you then! Registration is requested
 .
URL:https://northerntier.librarycalendar.com/event/knit-lit-13438
END:VEVENT
END:VCALENDAR
