BEGIN:VCALENDAR
VERSION:2.0
PRODID:-//Library Market//iCal Export//EN
BEGIN:VEVENT
SUMMARY:Bird Town
UID:15274
DTSTAMP:20260421T181200Z
DTSTART:20260506T170000Z
DTEND:20260506T190000Z
LOCATION:Northern Tier Regional Library, 4015 Dickey Road, Gibsonia, PA 15
 044, United States
ROOM: Richland Conference Room - Lower Level
DESCRIPTION:Join Richland Township&#039;s first official gathering as the 
 100th Bird Town in PA! Discover Richland&#039;s current and future initiat
 ives including the transformation of a community park area into a native f
 lower space, a presentation on how a &quot;hot mess&quot; yard can turn in
 to an Audubon Platinum Certified one, discussing the BIG SIT for World Mig
 ratory Bird Day(s), as well as a window for attendee ideas. There will als
 o be time to break off into small groups for bird and garden talk. Registr
 ation is required.
URL:https://northerntier.librarycalendar.com/event/bird-town-15274
END:VEVENT
END:VCALENDAR
