BEGIN:VCALENDAR
VERSION:2.0
PRODID:-//Library Market//iCal Export//EN
BEGIN:VEVENT
SUMMARY:Spring Take-Home Kit
UID:15412
DTSTAMP:20260419T132100Z
DTSTART:20260515T160000Z
DTEND:20260515T210000Z
LOCATION:4015 Dickey Rd, Gibsonia, PA 15044, United States
ROOM: Lobby
DESCRIPTION:Make a paper flower bouquet for spring with this take-home kit
 !This craft kit is intended for teens and adults, but all ages are welcome
  to register. Registration is required by Thursday, May 14 at 9 AM to acco
 unt for supplies, and kits will be available for lobby pickup on Friday, M
 ay 15 after 12 PM.
URL:https://northerntier.librarycalendar.com/event/spring-take-home-kit-15
 412
END:VEVENT
END:VCALENDAR
